BEGIN:VCALENDAR
VERSION:2.0
PRODID:-//Tukios.com/
BEGIN:VEVENT
UID:283ce086-6951-4537-a19c-76ce4ddc4301@www.newmanmortuary.com
DTSTAMP:20260425T185035Z
DTSTART:20260502T170000Z
DTEND:20260502T180000Z
SUMMARY:Visitation
DESCRIPTION:
URL:https://www.newmanmortuary.com/obituaries/a-z-stanley
LOCATION: Alabama 27  Ozark AL 36360
GEO:31.4350852;-85.5873144
END:VEVENT
END:VCALENDAR