BEGIN:VCALENDAR
VERSION:2.0
PRODID:-//Tukios.com/
BEGIN:VEVENT
UID:8f55e312-bcc8-4b88-abd5-0a6942e114b2@www.newmanmortuary.com
DTSTAMP:20260425T184533Z
DTSTART:20260502T160000Z
DTEND:20260502T170000Z
SUMMARY:Funeral Service
DESCRIPTION:
URL:https://www.newmanmortuary.com/obituaries/a-z-stanley
LOCATION: Alabama 27  Ozark AL 36360
GEO:31.4350852;-85.5873144
END:VEVENT
END:VCALENDAR