BEGIN:VCALENDAR
VERSION:2.0
PRODID:-//Tukios.com/
BEGIN:VEVENT
UID:d61dfbe8-583a-4237-9bad-83ca1da8638c@www.newmanmortuary.com
DTSTAMP:20260425T184919Z
DTSTART:20260502T170000Z
DTEND:20260502T190000Z
SUMMARY:Burial
DESCRIPTION:
URL:https://www.newmanmortuary.com/obituaries/a-z-stanley
LOCATION: 982 Alabama 27  Ozark AL 36360
GEO:31.4554518;-85.6825422
END:VEVENT
END:VCALENDAR