BEGIN:VCALENDAR
VERSION:2.0
PRODID:-//Tukios.com/
BEGIN:VEVENT
UID:0ad963f7-db63-4a6a-bb79-827c762b96a3@www.newmanmortuary.com
DTSTAMP:20260425T184914Z
DTSTART:20260501T160000Z
DTEND:20260501T190000Z
SUMMARY:Visitation
DESCRIPTION:
URL:https://www.newmanmortuary.com/obituaries/anna-wilson
LOCATION: 114 Harper Dr  Ozark AL 36360
GEO:31.4683854;-85.6549267
END:VEVENT
END:VCALENDAR