BEGIN:VCALENDAR
VERSION:2.0
PRODID:-//Tukios.com/
BEGIN:VEVENT
UID:91e5a6ce-f267-427d-8042-97e526bc3f18@www.newmanmortuary.com
DTSTAMP:20260425T184534Z
DTSTART:20260501T190000Z
DTEND:20260501T200000Z
SUMMARY:Funeral Service
DESCRIPTION:
URL:https://www.newmanmortuary.com/obituaries/anna-wilson
LOCATION: 114 Harper Dr  Ozark AL 36360
GEO:31.4683854;-85.6549267
END:VEVENT
END:VCALENDAR