BEGIN:VCALENDAR
VERSION:2.0
PRODID:-//Tukios.com/
BEGIN:VEVENT
UID:9aa007ab-25ed-459c-ac5a-6fd4840845d1@www.newmanmortuary.com
DTSTAMP:20260425T185036Z
DTSTART:20260501T194500Z
DTEND:20260501T200000Z
SUMMARY:Burial
DESCRIPTION:
URL:https://www.newmanmortuary.com/obituaries/anna-wilson
LOCATION: 2536 County Road 33  Ozark AL 36360
GEO:31.5128198;-85.5444528
END:VEVENT
END:VCALENDAR